BEGIN:VCALENDAR
PRODID:-//HKUST Drupal Platform//EN
VERSION:2.0
BEGIN:VTIMEZONE
TZID:Asia/Hong_Kong
BEGIN:STANDARD
DTSTART:20071104T020000
TZOFFSETFROM:+0700
TZOFFSETTO:+0800
TZNAME:HKT
END:STANDARD
END:VTIMEZONE
BEGIN:VEVENT
DTSTAMP;TZID=Asia/Hong_Kong:20260420T163843
DTSTART;TZID=Asia/Hong_Kong:20170421T160000
DTEND;TZID=Asia/Hong_Kong:20170421T170000
LOCATION:University Museum and Art Gallery, The University of Hong Kong, Pokfulam, Hong Kong
SUMMARY:Visit to “Imagining Qianlong: Louis XV’s Chinese Emperor Tapestries and Battle Scene Prints at the Imperial Court in Beijing” Exhibition
UID:26315
END:VEVENT
END:VCALENDAR