BEGIN:VCALENDAR
PRODID:-//HKUST Drupal Platform//EN
VERSION:2.0
BEGIN:VTIMEZONE
TZID:Asia/Hong_Kong
BEGIN:STANDARD
DTSTART:20071104T020000
TZOFFSETFROM:+0700
TZOFFSETTO:+0800
TZNAME:HKT
END:STANDARD
END:VTIMEZONE
BEGIN:VEVENT
DTSTAMP;TZID=Asia/Hong_Kong:20260421T004707
DTSTART;TZID=Asia/Hong_Kong:20170424T093000
DTEND;TZID=Asia/Hong_Kong:20170424T123000
LOCATION:Room 1505 (Lift 25-26), 1/F Academic Building, HKUST
SUMMARY:PhD in Life Science - Nitric Oxide Modulates Tyrosine Hydroxylase and Nedd4 Enzymatic Activity through S-nitrosylation
UID:26312
END:VEVENT
END:VCALENDAR