BEGIN:VCALENDAR
PRODID:-//HKUST Drupal Platform//EN
VERSION:2.0
BEGIN:VTIMEZONE
TZID:Asia/Hong_Kong
BEGIN:STANDARD
DTSTART:20071104T020000
TZOFFSETFROM:+0700
TZOFFSETTO:+0800
TZNAME:HKT
END:STANDARD
END:VTIMEZONE
BEGIN:VEVENT
DTSTAMP;TZID=Asia/Hong_Kong:20260420T171259
DTSTART;TZID=Asia/Hong_Kong:20170511T140000
DTEND;TZID=Asia/Hong_Kong:20170511T160000
LOCATION:Room 3494 (lifts 25/26)
SUMMARY:MPhil in Computer Science and Engineering - A Crowdsourced Probabilistic Approach on Data Fusion Refinement
UID:26239
END:VEVENT
END:VCALENDAR