BEGIN:VCALENDAR
PRODID:-//HKUST Drupal Platform//EN
VERSION:2.0
BEGIN:VTIMEZONE
TZID:Asia/Hong_Kong
BEGIN:STANDARD
DTSTART:20071104T020000
TZOFFSETFROM:+0700
TZOFFSETTO:+0800
TZNAME:HKT
END:STANDARD
END:VTIMEZONE
BEGIN:VEVENT
DTSTAMP;TZID=Asia/Hong_Kong:20260420T171301
DTSTART;TZID=Asia/Hong_Kong:20170519T143000
DTEND;TZID=Asia/Hong_Kong:20170519T173000
LOCATION:Room 3494, near lifts 25&26
SUMMARY:PhD in Mathematics - Dihedral Groups of Lie Algebra Automorphisms
UID:26199
END:VEVENT
END:VCALENDAR