BEGIN:VCALENDAR
PRODID:-//HKUST Drupal Platform//EN
VERSION:2.0
BEGIN:VTIMEZONE
TZID:Asia/Hong_Kong
BEGIN:STANDARD
DTSTART:20071104T020000
TZOFFSETFROM:+0700
TZOFFSETTO:+0800
TZNAME:HKT
END:STANDARD
END:VTIMEZONE
BEGIN:VEVENT
DTSTAMP;TZID=Asia/Hong_Kong:20260420T185639
DTSTART;TZID=Asia/Hong_Kong:20170524T140000
DTEND;TZID=Asia/Hong_Kong:20170524T170000
LOCATION:Room 4047 (Lifts 1-2), 4/F, Lee Shau Kee Business Building, HKUST
SUMMARY:PhD in Operations Management - Rebate Competition and Information Sharing in Supply Chains
UID:26183
END:VEVENT
END:VCALENDAR