BEGIN:VCALENDAR
PRODID:-//HKUST Drupal Platform//EN
VERSION:2.0
BEGIN:VTIMEZONE
TZID:Asia/Hong_Kong
BEGIN:STANDARD
DTSTART:20071104T020000
TZOFFSETFROM:+0700
TZOFFSETTO:+0800
TZNAME:HKT
END:STANDARD
END:VTIMEZONE
BEGIN:VEVENT
DTSTAMP;TZID=Asia/Hong_Kong:20260420T185631
DTSTART;TZID=Asia/Hong_Kong:20170607T100000
DTEND;TZID=Asia/Hong_Kong:20170607T110000
LOCATION:Rooms 4418-19 (Lifts 17-18), 4/F of Academic Building, HKUST
SUMMARY:PhD in Physics - Colloidal diffusion over complex energy landscapes: from quasicrystalline and random potentials to live cell membranes
UID:26124
END:VEVENT
END:VCALENDAR