BEGIN:VCALENDAR
PRODID:-//HKUST Drupal Platform//EN
VERSION:2.0
BEGIN:VTIMEZONE
TZID:Asia/Hong_Kong
BEGIN:STANDARD
DTSTART:20071104T020000
TZOFFSETFROM:+0700
TZOFFSETTO:+0800
TZNAME:HKT
END:STANDARD
END:VTIMEZONE
BEGIN:VEVENT
DTSTAMP;TZID=Asia/Hong_Kong:20260420T184700
DTSTART;TZID=Asia/Hong_Kong:20170607T140000
DTEND;TZID=Asia/Hong_Kong:20170607T170000
LOCATION:Room 1511 (Lifts 27-28), 1/F Academic Building, HKUST
SUMMARY:MPhil in Tech Leader & Entrepre - Commercialization of Graphene and its Derivatives as Separation Material in Biomedical and Water Treatment Applications
UID:26121
END:VEVENT
END:VCALENDAR