BEGIN:VCALENDAR
PRODID:-//HKUST Drupal Platform//EN
VERSION:2.0
BEGIN:VTIMEZONE
TZID:Asia/Hong_Kong
BEGIN:STANDARD
DTSTART:20071104T020000
TZOFFSETFROM:+0700
TZOFFSETTO:+0800
TZNAME:HKT
END:STANDARD
END:VTIMEZONE
BEGIN:VEVENT
DTSTAMP;TZID=Asia/Hong_Kong:20260420T184723
DTSTART;TZID=Asia/Hong_Kong:20170607T143000
DTEND;TZID=Asia/Hong_Kong:20170607T173000
LOCATION:Rm 5047 (Lifts 1-2), 5/F, Academic Building, HKUST
SUMMARY:MPhil in Management - Interactions of Work Environment and Individual Factors to Forming Job Engagement
UID:26119
END:VEVENT
END:VCALENDAR