BEGIN:VCALENDAR
PRODID:-//HKUST Drupal Platform//EN
VERSION:2.0
BEGIN:VTIMEZONE
TZID:Asia/Hong_Kong
BEGIN:STANDARD
DTSTART:20071104T020000
TZOFFSETFROM:+0700
TZOFFSETTO:+0800
TZNAME:HKT
END:STANDARD
END:VTIMEZONE
BEGIN:VEVENT
DTSTAMP;TZID=Asia/Hong_Kong:20260420T184700
DTSTART;TZID=Asia/Hong_Kong:20170608T140000
DTEND;TZID=Asia/Hong_Kong:20170608T150000
LOCATION:Room 2302 (Lifts 17-18) 2/F Academic Building
SUMMARY:PhD in Environmental Science, Policy and Management - Environmental Policy in China: Historical Perspective and Current Implementation
UID:26108
END:VEVENT
END:VCALENDAR