BEGIN:VCALENDAR
PRODID:-//HKUST Drupal Platform//EN
VERSION:2.0
BEGIN:VTIMEZONE
TZID:Asia/Hong_Kong
BEGIN:STANDARD
DTSTART:20071104T020000
TZOFFSETFROM:+0700
TZOFFSETTO:+0800
TZNAME:HKT
END:STANDARD
END:VTIMEZONE
BEGIN:VEVENT
DTSTAMP;TZID=Asia/Hong_Kong:20260420T184700
DTSTART;TZID=Asia/Hong_Kong:20170609T103000
DTEND;TZID=Asia/Hong_Kong:20170609T123000
LOCATION:Room 5554, IELM Conference Room, Lift 27-28
SUMMARY:MPhil in Industrial Engineering and Logistics Management - An Annular Virtual Keyboard for Users with Severe Motion Disabilities
UID:26105
END:VEVENT
END:VCALENDAR