BEGIN:VCALENDAR
PRODID:-//HKUST Drupal Platform//EN
VERSION:2.0
BEGIN:VTIMEZONE
TZID:Asia/Hong_Kong
BEGIN:STANDARD
DTSTART:20071104T020000
TZOFFSETFROM:+0700
TZOFFSETTO:+0800
TZNAME:HKT
END:STANDARD
END:VTIMEZONE
BEGIN:VEVENT
DTSTAMP;TZID=Asia/Hong_Kong:20260420T183353
DTSTART;TZID=Asia/Hong_Kong:20170619T100000
DTEND;TZID=Asia/Hong_Kong:20170619T130000
LOCATION:Room 2610 (Lifts 31 & 32), 2/F Academic Building, HKUST
SUMMARY:PhD in Electronic and Computer Engineering - Monolithic Integration of InAs Quantum Dot Lasers on Si Substrates for On-chip Optical Interconnects
UID:26059
END:VEVENT
END:VCALENDAR