BEGIN:VCALENDAR
PRODID:-//HKUST Drupal Platform//EN
VERSION:2.0
BEGIN:VTIMEZONE
TZID:Asia/Hong_Kong
BEGIN:STANDARD
DTSTART:20071104T020000
TZOFFSETFROM:+0700
TZOFFSETTO:+0800
TZNAME:HKT
END:STANDARD
END:VTIMEZONE
BEGIN:VEVENT
DTSTAMP;TZID=Asia/Hong_Kong:20260420T183353
DTSTART;TZID=Asia/Hong_Kong:20170619T150000
DTEND;TZID=Asia/Hong_Kong:20170619T180000
LOCATION:Room 4472 (Lifts 25-26), 4/F Academic Building, HKUST
SUMMARY:MPhil in Computer Science & Engg - Efficient Sparse Low-Rank Tensor Completion using Frank-Wolfe Algorithm
UID:26057
END:VEVENT
END:VCALENDAR