BEGIN:VCALENDAR
PRODID:-//HKUST Drupal Platform//EN
VERSION:2.0
BEGIN:VTIMEZONE
TZID:Asia/Hong_Kong
BEGIN:STANDARD
DTSTART:20071104T020000
TZOFFSETFROM:+0700
TZOFFSETTO:+0800
TZNAME:HKT
END:STANDARD
END:VTIMEZONE
BEGIN:VEVENT
DTSTAMP;TZID=Asia/Hong_Kong:20260423T072746
DTSTART;TZID=Asia/Hong_Kong:20170620T140000
DTEND;TZID=Asia/Hong_Kong:20170620T170000
LOCATION:Room 4472, 4/F (lifts 25-26), Academic Building, HKUST
SUMMARY:PhD in Mathematics - Berry-Esseen Bounds for Curie-Weiss Model and Associated Random Variables by Stein\'s Method
UID:26052
END:VEVENT
END:VCALENDAR