BEGIN:VCALENDAR
PRODID:-//HKUST Drupal Platform//EN
VERSION:2.0
BEGIN:VTIMEZONE
TZID:Asia/Hong_Kong
BEGIN:STANDARD
DTSTART:20071104T020000
TZOFFSETFROM:+0700
TZOFFSETTO:+0800
TZNAME:HKT
END:STANDARD
END:VTIMEZONE
BEGIN:VEVENT
DTSTAMP;TZID=Asia/Hong_Kong:20260420T201103
DTSTART;TZID=Asia/Hong_Kong:20170629T100000
DTEND;TZID=Asia/Hong_Kong:20170629T130000
LOCATION:Room 2304 (Lifts 17-18), 2F Academic Building, HKUST
SUMMARY:MPhil in Envrl Sci, Policy & Mgmt - Integrated Assessment on Effectiveness of Intervened Vehicular Emission Control Programmes in Hong Kong Air Quality
UID:25989
END:VEVENT
END:VCALENDAR