BEGIN:VCALENDAR
PRODID:-//HKUST Drupal Platform//EN
VERSION:2.0
BEGIN:VTIMEZONE
TZID:Asia/Hong_Kong
BEGIN:STANDARD
DTSTART:20071104T020000
TZOFFSETFROM:+0700
TZOFFSETTO:+0800
TZNAME:HKT
END:STANDARD
END:VTIMEZONE
BEGIN:VEVENT
DTSTAMP;TZID=Asia/Hong_Kong:20260420T213806
DTSTART;TZID=Asia/Hong_Kong:20170630T090000
DTEND;TZID=Asia/Hong_Kong:20170630T103000
LOCATION:Room 6045 Lee Shau Kee Business Building
SUMMARY:MPhil in Economics - Vertical Structure with  Firm Dynamics in RBC
UID:25981
END:VEVENT
END:VCALENDAR