BEGIN:VCALENDAR
PRODID:-//HKUST Drupal Platform//EN
VERSION:2.0
BEGIN:VTIMEZONE
TZID:Asia/Hong_Kong
BEGIN:STANDARD
DTSTART:20071104T020000
TZOFFSETFROM:+0700
TZOFFSETTO:+0800
TZNAME:HKT
END:STANDARD
END:VTIMEZONE
BEGIN:VEVENT
DTSTAMP;TZID=Asia/Hong_Kong:20260420T201103
DTSTART;TZID=Asia/Hong_Kong:20170703T100000
DTEND;TZID=Asia/Hong_Kong:20170703T130000
LOCATION:Room 2610, near lifts 31&32
SUMMARY:PhD in Mathematics - Dislocation dynamics from atomistic schemes  to continuum models
UID:25966
END:VEVENT
END:VCALENDAR