BEGIN:VCALENDAR
PRODID:-//HKUST Drupal Platform//EN
VERSION:2.0
BEGIN:VTIMEZONE
TZID:Asia/Hong_Kong
BEGIN:STANDARD
DTSTART:20071104T020000
TZOFFSETFROM:+0700
TZOFFSETTO:+0800
TZNAME:HKT
END:STANDARD
END:VTIMEZONE
BEGIN:VEVENT
DTSTAMP;TZID=Asia/Hong_Kong:20260420T212926
DTSTART;TZID=Asia/Hong_Kong:20170703T103000
DTEND;TZID=Asia/Hong_Kong:20170703T120000
LOCATION:Room 6045, Lee Shau Kee Business Building
SUMMARY:PhD in Economics - Three Essays on Industrial Organization
UID:25962
END:VEVENT
END:VCALENDAR