BEGIN:VCALENDAR
PRODID:-//HKUST Drupal Platform//EN
VERSION:2.0
BEGIN:VTIMEZONE
TZID:Asia/Hong_Kong
BEGIN:STANDARD
DTSTART:20071104T020000
TZOFFSETFROM:+0700
TZOFFSETTO:+0800
TZNAME:HKT
END:STANDARD
END:VTIMEZONE
BEGIN:VEVENT
DTSTAMP;TZID=Asia/Hong_Kong:20260420T214657
DTSTART;TZID=Asia/Hong_Kong:20170711T140000
DTEND;TZID=Asia/Hong_Kong:20170711T170000
LOCATION:Room 2612B (Lifts 31 & 32), 2/F Academic Building, HKUST
SUMMARY:PhD in Electronic and Computer Engineering - Research on Key Technology of Next Generation Video Coding Standard
UID:25928
END:VEVENT
END:VCALENDAR