BEGIN:VCALENDAR
PRODID:-//HKUST Drupal Platform//EN
VERSION:2.0
BEGIN:VTIMEZONE
TZID:Asia/Hong_Kong
BEGIN:STANDARD
DTSTART:20071104T020000
TZOFFSETFROM:+0700
TZOFFSETTO:+0800
TZNAME:HKT
END:STANDARD
END:VTIMEZONE
BEGIN:VEVENT
DTSTAMP;TZID=Asia/Hong_Kong:20260420T213806
DTSTART;TZID=Asia/Hong_Kong:20170711T143000
DTEND;TZID=Asia/Hong_Kong:20170711T173000
LOCATION:Room 3301, Academic Building (Lift no. 2)
SUMMARY:MPhil in Humanities - Contested \"Xiey\": Classical Chinese Theatricality in Modern Times
UID:25927
END:VEVENT
END:VCALENDAR