BEGIN:VCALENDAR
PRODID:-//HKUST Drupal Platform//EN
VERSION:2.0
BEGIN:VTIMEZONE
TZID:Asia/Hong_Kong
BEGIN:STANDARD
DTSTART:20071104T020000
TZOFFSETFROM:+0700
TZOFFSETTO:+0800
TZNAME:HKT
END:STANDARD
END:VTIMEZONE
BEGIN:VEVENT
DTSTAMP;TZID=Asia/Hong_Kong:20260420T214707
DTSTART;TZID=Asia/Hong_Kong:20170712T153000
DTEND;TZID=Asia/Hong_Kong:20170712T163000
LOCATION:Room 2304 (Lifts 17-18), HKUST
SUMMARY:PhD in Physics - Topological bound states in continuum and coexistence of Anderson localized states and extended states
UID:25917
END:VEVENT
END:VCALENDAR