BEGIN:VCALENDAR
PRODID:-//HKUST Drupal Platform//EN
VERSION:2.0
BEGIN:VTIMEZONE
TZID:Asia/Hong_Kong
BEGIN:STANDARD
DTSTART:20071104T020000
TZOFFSETFROM:+0700
TZOFFSETTO:+0800
TZNAME:HKT
END:STANDARD
END:VTIMEZONE
BEGIN:VEVENT
DTSTAMP;TZID=Asia/Hong_Kong:20260420T214700
DTSTART;TZID=Asia/Hong_Kong:20170713T143000
DTEND;TZID=Asia/Hong_Kong:20170713T173000
LOCATION:Room 3301, Academic Building (Lift no. 2)
SUMMARY:MPhil in Humanities - Biopolitics and National Subjectivity: Representing Animals in Socialist China
UID:25904
END:VEVENT
END:VCALENDAR