BEGIN:VCALENDAR
PRODID:-//HKUST Drupal Platform//EN
VERSION:2.0
BEGIN:VTIMEZONE
TZID:Asia/Hong_Kong
BEGIN:STANDARD
DTSTART:20071104T020000
TZOFFSETFROM:+0700
TZOFFSETTO:+0800
TZNAME:HKT
END:STANDARD
END:VTIMEZONE
BEGIN:VEVENT
DTSTAMP;TZID=Asia/Hong_Kong:20260420T213749
DTSTART;TZID=Asia/Hong_Kong:20170714T091500
DTEND;TZID=Asia/Hong_Kong:20170714T121500
LOCATION:Room 2610  (Lift 31-32), 2/F Academic Building, HKUST
SUMMARY:PhD in Atmospheric Envrl Science - Impact of Building Morphologies on Wind and Pollutant Transport CFD Modelling and Applications
UID:25902
END:VEVENT
END:VCALENDAR