BEGIN:VCALENDAR
PRODID:-//HKUST Drupal Platform//EN
VERSION:2.0
BEGIN:VTIMEZONE
TZID:Asia/Hong_Kong
BEGIN:STANDARD
DTSTART:20071104T020000
TZOFFSETFROM:+0700
TZOFFSETTO:+0800
TZNAME:HKT
END:STANDARD
END:VTIMEZONE
BEGIN:VEVENT
DTSTAMP;TZID=Asia/Hong_Kong:20260420T214659
DTSTART;TZID=Asia/Hong_Kong:20170714T100000
DTEND;TZID=Asia/Hong_Kong:20170714T130000
LOCATION:Room 2612A (Lifts 31-32), 2/F Academic Building, HKUST
SUMMARY:PhD in Electronic & Comp Engg - Development of Advanced Gate Stacks and Passivation Techniques for GaN Power Transistors
UID:25901
END:VEVENT
END:VCALENDAR