BEGIN:VCALENDAR
PRODID:-//HKUST Drupal Platform//EN
VERSION:2.0
BEGIN:VTIMEZONE
TZID:Asia/Hong_Kong
BEGIN:STANDARD
DTSTART:20071104T020000
TZOFFSETFROM:+0700
TZOFFSETTO:+0800
TZNAME:HKT
END:STANDARD
END:VTIMEZONE
BEGIN:VEVENT
DTSTAMP;TZID=Asia/Hong_Kong:20260421T002043
DTSTART;TZID=Asia/Hong_Kong:20170724T140000
DTEND;TZID=Asia/Hong_Kong:20170724T170000
LOCATION:Room 2571B (Lifts 27-28), 2/F Academic Building, HKUST
SUMMARY:PhD in Mechanical Engineering - Droplet Based Microfluidics: Controllable and High Throughput Droplet Generation for Applications
UID:25851
END:VEVENT
END:VCALENDAR