BEGIN:VCALENDAR
PRODID:-//HKUST Drupal Platform//EN
VERSION:2.0
BEGIN:VTIMEZONE
TZID:Asia/Hong_Kong
BEGIN:STANDARD
DTSTART:20071104T020000
TZOFFSETFROM:+0700
TZOFFSETTO:+0800
TZNAME:HKT
END:STANDARD
END:VTIMEZONE
BEGIN:VEVENT
DTSTAMP;TZID=Asia/Hong_Kong:20260420T214659
DTSTART;TZID=Asia/Hong_Kong:20170724T150000
DTEND;TZID=Asia/Hong_Kong:20170724T180000
LOCATION:Room 2130C (Lift 19), 2/F Academic Building, HKUST
SUMMARY:PhD in Computer Science & Engg - Compression Methods for Trajectory Data under Road Network Constraints
UID:25850
END:VEVENT
END:VCALENDAR