BEGIN:VCALENDAR
PRODID:-//HKUST Drupal Platform//EN
VERSION:2.0
BEGIN:VTIMEZONE
TZID:Asia/Hong_Kong
BEGIN:STANDARD
DTSTART:20071104T020000
TZOFFSETFROM:+0700
TZOFFSETTO:+0800
TZNAME:HKT
END:STANDARD
END:VTIMEZONE
BEGIN:VEVENT
DTSTAMP;TZID=Asia/Hong_Kong:20260423T072748
DTSTART;TZID=Asia/Hong_Kong:20170727T143000
DTEND;TZID=Asia/Hong_Kong:20170727T173000
LOCATION:Room 2302 (Lifts 17-18), 2/F, Academic Building, HKUST
SUMMARY:PhD in Nano Science & Technology - Defect Engineering of Materials for Effective and Stable Solar Energy Conversion Devices
UID:25834
END:VEVENT
END:VCALENDAR