BEGIN:VCALENDAR
PRODID:-//HKUST Drupal Platform//EN
VERSION:2.0
BEGIN:VTIMEZONE
TZID:Asia/Hong_Kong
BEGIN:STANDARD
DTSTART:20071104T020000
TZOFFSETFROM:+0700
TZOFFSETTO:+0800
TZNAME:HKT
END:STANDARD
END:VTIMEZONE
BEGIN:VEVENT
DTSTAMP;TZID=Asia/Hong_Kong:20260423T090334
DTSTART;TZID=Asia/Hong_Kong:20170727T150000
DTEND;TZID=Asia/Hong_Kong:20170727T160000
LOCATION:Room 4503 (Lifts 25-26), 4/F of Academic Building, HKUST
SUMMARY:MPhil in Physics - Investigating the Stepping Mechanism of Myosin X Using Single Molecule Tracking and Building Magnetic Tweezers for the Measurement of Single Cell Mechanics
UID:25830
END:VEVENT
END:VCALENDAR