BEGIN:VCALENDAR
PRODID:-//HKUST Drupal Platform//EN
VERSION:2.0
BEGIN:VTIMEZONE
TZID:Asia/Hong_Kong
BEGIN:STANDARD
DTSTART:20071104T020000
TZOFFSETFROM:+0700
TZOFFSETTO:+0800
TZNAME:HKT
END:STANDARD
END:VTIMEZONE
BEGIN:VEVENT
DTSTAMP;TZID=Asia/Hong_Kong:20260420T230318
DTSTART;TZID=Asia/Hong_Kong:20170731T110000
DTEND;TZID=Asia/Hong_Kong:20170731T130000
LOCATION:Room 2130A (lift 19)
SUMMARY:PhD in Computer Science and Engineering - ON IMPROVING THE PERFORMANCE OF TCP APPLICATIONS IN PUBLIC CLOUD NETWORKS
UID:25803
END:VEVENT
END:VCALENDAR