BEGIN:VCALENDAR
PRODID:-//HKUST Drupal Platform//EN
VERSION:2.0
BEGIN:VTIMEZONE
TZID:Asia/Hong_Kong
BEGIN:STANDARD
DTSTART:20071104T020000
TZOFFSETFROM:+0700
TZOFFSETTO:+0800
TZNAME:HKT
END:STANDARD
END:VTIMEZONE
BEGIN:VEVENT
DTSTAMP;TZID=Asia/Hong_Kong:20260420T230318
DTSTART;TZID=Asia/Hong_Kong:20170731T150000
DTEND;TZID=Asia/Hong_Kong:20170731T180000
LOCATION:Room 1511 (Lifts 27-28), 1/F Academic Building, HKUST
SUMMARY:MPhil in Electronic & Comp Engg - Attitude Estimation, Modelling, and Control of Autonomous Underwater Vehicle
UID:25798
END:VEVENT
END:VCALENDAR