BEGIN:VCALENDAR
PRODID:-//HKUST Drupal Platform//EN
VERSION:2.0
BEGIN:VTIMEZONE
TZID:Asia/Hong_Kong
BEGIN:STANDARD
DTSTART:20071104T020000
TZOFFSETFROM:+0700
TZOFFSETTO:+0800
TZNAME:HKT
END:STANDARD
END:VTIMEZONE
BEGIN:VEVENT
DTSTAMP;TZID=Asia/Hong_Kong:20260423T090333
DTSTART;TZID=Asia/Hong_Kong:20170802T090000
DTEND;TZID=Asia/Hong_Kong:20170802T120000
LOCATION:Room 2571B (lifts# 27-28), HKUST
SUMMARY:MPhil in Mechanical Engineering - The Effect of Confinement on the Stability of Planar Dense Wakes
UID:25785
END:VEVENT
END:VCALENDAR