BEGIN:VCALENDAR
PRODID:-//HKUST Drupal Platform//EN
VERSION:2.0
BEGIN:VTIMEZONE
TZID:Asia/Hong_Kong
BEGIN:STANDARD
DTSTART:20071104T020000
TZOFFSETFROM:+0700
TZOFFSETTO:+0800
TZNAME:HKT
END:STANDARD
END:VTIMEZONE
BEGIN:VEVENT
DTSTAMP;TZID=Asia/Hong_Kong:20260423T072746
DTSTART;TZID=Asia/Hong_Kong:20170802T103000
DTEND;TZID=Asia/Hong_Kong:20170802T133000
LOCATION:room 2571B (lifts # 27-28), HKUST
SUMMARY:MPhil in Mechanical Engineering - Transition to Global Instability in Low-density Jets: Bistability, Intermittency and Coherence Resonance
UID:25782
END:VEVENT
END:VCALENDAR