BEGIN:VCALENDAR
PRODID:-//HKUST Drupal Platform//EN
VERSION:2.0
BEGIN:VTIMEZONE
TZID:Asia/Hong_Kong
BEGIN:STANDARD
DTSTART:20071104T020000
TZOFFSETFROM:+0700
TZOFFSETTO:+0800
TZNAME:HKT
END:STANDARD
END:VTIMEZONE
BEGIN:VEVENT
DTSTAMP;TZID=Asia/Hong_Kong:20260423T090332
DTSTART;TZID=Asia/Hong_Kong:20170802T150000
DTEND;TZID=Asia/Hong_Kong:20170802T170000
LOCATION:Room 1511 (lifts 25/26)
SUMMARY:PhD in Computer Science and Engineering - TOWARDS OPTIMAL DELAY AND THROUGHPUT IN DATA-PARALLEL COMPUTING CLUSTERS
UID:25772
END:VEVENT
END:VCALENDAR