BEGIN:VCALENDAR
PRODID:-//HKUST Drupal Platform//EN
VERSION:2.0
BEGIN:VTIMEZONE
TZID:Asia/Hong_Kong
BEGIN:STANDARD
DTSTART:20071104T020000
TZOFFSETFROM:+0700
TZOFFSETTO:+0800
TZNAME:HKT
END:STANDARD
END:VTIMEZONE
BEGIN:VEVENT
DTSTAMP;TZID=Asia/Hong_Kong:20260423T090336
DTSTART;TZID=Asia/Hong_Kong:20170803T100000
DTEND;TZID=Asia/Hong_Kong:20170803T130000
LOCATION:room 2571B (lifts#27-28), HKUST
SUMMARY:MPhil in Mechanical Engineering - Study on the Synergistic Effect and Toughening Mechanisms of PP/CaCO3 Nano-composites Modified with Glycidyl Methacrylate Grafted EPR
UID:25765
END:VEVENT
END:VCALENDAR