BEGIN:VCALENDAR
PRODID:-//HKUST Drupal Platform//EN
VERSION:2.0
BEGIN:VTIMEZONE
TZID:Asia/Hong_Kong
BEGIN:STANDARD
DTSTART:20071104T020000
TZOFFSETFROM:+0700
TZOFFSETTO:+0800
TZNAME:HKT
END:STANDARD
END:VTIMEZONE
BEGIN:VEVENT
DTSTAMP;TZID=Asia/Hong_Kong:20260423T072744
DTSTART;TZID=Asia/Hong_Kong:20170803T140000
DTEND;TZID=Asia/Hong_Kong:20170803T160000
LOCATION:Room 2611 (lifts 31/32)
SUMMARY:PhD in Computer Science and Engineering - The Effects of Audio Processings on the Perceived Emotional Characteristics of Musical Instrument Sounds
UID:25756
END:VEVENT
END:VCALENDAR