BEGIN:VCALENDAR
PRODID:-//HKUST Drupal Platform//EN
VERSION:2.0
BEGIN:VTIMEZONE
TZID:Asia/Hong_Kong
BEGIN:STANDARD
DTSTART:20071104T020000
TZOFFSETFROM:+0700
TZOFFSETTO:+0800
TZNAME:HKT
END:STANDARD
END:VTIMEZONE
BEGIN:VEVENT
DTSTAMP;TZID=Asia/Hong_Kong:20260423T143011
DTSTART;TZID=Asia/Hong_Kong:20170804T093000
DTEND;TZID=Asia/Hong_Kong:20170804T123000
LOCATION:Room 2571B (Lifts 27-28), 2/F Academic Building, HKUST
SUMMARY:PhD in Mechanical Engineering - Effect of Matrix/Particle Interface on Mechanical Properties of Polypropylene Nanocomposites
UID:25748
END:VEVENT
END:VCALENDAR