BEGIN:VCALENDAR
PRODID:-//HKUST Drupal Platform//EN
VERSION:2.0
BEGIN:VTIMEZONE
TZID:Asia/Hong_Kong
BEGIN:STANDARD
DTSTART:20071104T020000
TZOFFSETFROM:+0700
TZOFFSETTO:+0800
TZNAME:HKT
END:STANDARD
END:VTIMEZONE
BEGIN:VEVENT
DTSTAMP;TZID=Asia/Hong_Kong:20260423T172817
DTSTART;TZID=Asia/Hong_Kong:20170804T140000
DTEND;TZID=Asia/Hong_Kong:20170804T170000
LOCATION:Room 2612A (Lifts 31 & 32), 2/F Academic Building, HKUST
SUMMARY:MPhil in Electronic and Computer Engineering - Design of Long-term Searching Swarm Robotic System
UID:25739
END:VEVENT
END:VCALENDAR