BEGIN:VCALENDAR
PRODID:-//HKUST Drupal Platform//EN
VERSION:2.0
BEGIN:VTIMEZONE
TZID:Asia/Hong_Kong
BEGIN:STANDARD
DTSTART:20071104T020000
TZOFFSETFROM:+0700
TZOFFSETTO:+0800
TZNAME:HKT
END:STANDARD
END:VTIMEZONE
BEGIN:VEVENT
DTSTAMP;TZID=Asia/Hong_Kong:20260423T143009
DTSTART;TZID=Asia/Hong_Kong:20170808T100000
DTEND;TZID=Asia/Hong_Kong:20170808T130000
LOCATION:Room 2612A (Lifts 31-32), 2/F Academic Building, HKUST
SUMMARY:PhD in Mechanical Engineering - Thermal Management of Lithium Ion Batteries using Graphene Coated Nickel Foam Saturated with Phase Change Material
UID:25713
END:VEVENT
END:VCALENDAR