BEGIN:VCALENDAR
PRODID:-//HKUST Drupal Platform//EN
VERSION:2.0
BEGIN:VTIMEZONE
TZID:Asia/Hong_Kong
BEGIN:STANDARD
DTSTART:20071104T020000
TZOFFSETFROM:+0700
TZOFFSETTO:+0800
TZNAME:HKT
END:STANDARD
END:VTIMEZONE
BEGIN:VEVENT
DTSTAMP;TZID=Asia/Hong_Kong:20260423T061649
DTSTART;TZID=Asia/Hong_Kong:20170808T100000
DTEND;TZID=Asia/Hong_Kong:20170808T130000
LOCATION:Room 2610 (Lifts 31 & 32), 2/F Academic Building, HKUST
SUMMARY:PhD in Electronic and Computer Engineering - Advanced Stochastic Optimisation with Applications to Communication Networks and Machine Learning
UID:25707
END:VEVENT
END:VCALENDAR