BEGIN:VCALENDAR
PRODID:-//HKUST Drupal Platform//EN
VERSION:2.0
BEGIN:VTIMEZONE
TZID:Asia/Hong_Kong
BEGIN:STANDARD
DTSTART:20071104T020000
TZOFFSETFROM:+0700
TZOFFSETTO:+0800
TZNAME:HKT
END:STANDARD
END:VTIMEZONE
BEGIN:VEVENT
DTSTAMP;TZID=Asia/Hong_Kong:20260423T143009
DTSTART;TZID=Asia/Hong_Kong:20170809T150000
DTEND;TZID=Asia/Hong_Kong:20170809T180000
LOCATION:Room 4619 (Lifts 31-32), 4/F Academic Building, HKUST
SUMMARY:MPhil in Electronic & Comp Engg - A New Perspective Correction Method for Display-Camera Visible Light Communications using Screen Door Patterns
UID:25681
END:VEVENT
END:VCALENDAR