BEGIN:VCALENDAR
PRODID:-//HKUST Drupal Platform//EN
VERSION:2.0
BEGIN:VTIMEZONE
TZID:Asia/Hong_Kong
BEGIN:STANDARD
DTSTART:20071104T020000
TZOFFSETFROM:+0700
TZOFFSETTO:+0800
TZNAME:HKT
END:STANDARD
END:VTIMEZONE
BEGIN:VEVENT
DTSTAMP;TZID=Asia/Hong_Kong:20260423T172815
DTSTART;TZID=Asia/Hong_Kong:20170811T140000
DTEND;TZID=Asia/Hong_Kong:20170811T170000
LOCATION:Room 2610 (Lifts 31-32), 2/F Academic Building, HKUST
SUMMARY:PhD in Electronic & Comp Engg - Design of AC Input Inductor-Less LED Driver for Efficient and Smart Lighting
UID:25646
END:VEVENT
END:VCALENDAR