BEGIN:VCALENDAR
PRODID:-//HKUST Drupal Platform//EN
VERSION:2.0
BEGIN:VTIMEZONE
TZID:Asia/Hong_Kong
BEGIN:STANDARD
DTSTART:20071104T020000
TZOFFSETFROM:+0700
TZOFFSETTO:+0800
TZNAME:HKT
END:STANDARD
END:VTIMEZONE
BEGIN:VEVENT
DTSTAMP;TZID=Asia/Hong_Kong:20260423T172815
DTSTART;TZID=Asia/Hong_Kong:20170815T150000
DTEND;TZID=Asia/Hong_Kong:20170815T180000
LOCATION:Rm4504 (Lifts 25-26), 4/F Academic Building, HKUST
SUMMARY:PhD in Chemistry - Arrayed Uniform Copper Mesostructures: Fabrication, Characterization and Application in SERS
UID:25608
END:VEVENT
END:VCALENDAR