BEGIN:VCALENDAR
PRODID:-//HKUST Drupal Platform//EN
VERSION:2.0
BEGIN:VTIMEZONE
TZID:Asia/Hong_Kong
BEGIN:STANDARD
DTSTART:20071104T020000
TZOFFSETFROM:+0700
TZOFFSETTO:+0800
TZNAME:HKT
END:STANDARD
END:VTIMEZONE
BEGIN:VEVENT
DTSTAMP;TZID=Asia/Hong_Kong:20260423T140352
DTSTART;TZID=Asia/Hong_Kong:20170816T103000
DTEND;TZID=Asia/Hong_Kong:20170816T113000
LOCATION:Rm 4047, 4/F Lee Shau Kee Business Building, HKUST
SUMMARY:MPhil in Marketing - Free-Ride Effect of Feedback in Freelance Contests
UID:25597
END:VEVENT
END:VCALENDAR