BEGIN:VCALENDAR
PRODID:-//HKUST Drupal Platform//EN
VERSION:2.0
BEGIN:VTIMEZONE
TZID:Asia/Hong_Kong
BEGIN:STANDARD
DTSTART:20071104T020000
TZOFFSETFROM:+0700
TZOFFSETTO:+0800
TZNAME:HKT
END:STANDARD
END:VTIMEZONE
BEGIN:VEVENT
DTSTAMP;TZID=Asia/Hong_Kong:20260423T123401
DTSTART;TZID=Asia/Hong_Kong:20170816T150000
DTEND;TZID=Asia/Hong_Kong:20170816T180000
LOCATION:Lecture Theater H, 1/F Academic Concourse, HKUST
SUMMARY:PhD in Life Science - Mutations in TED1 and DCR2, Two Glycosylphosphatidylinositol Anchored Protein Remodelases, Activate the Spindle Assembly Checkpoint in Budding Yeast Cells
UID:25582
END:VEVENT
END:VCALENDAR