BEGIN:VCALENDAR
PRODID:-//HKUST Drupal Platform//EN
VERSION:2.0
BEGIN:VTIMEZONE
TZID:Asia/Hong_Kong
BEGIN:STANDARD
DTSTART:20071104T020000
TZOFFSETFROM:+0700
TZOFFSETTO:+0800
TZNAME:HKT
END:STANDARD
END:VTIMEZONE
BEGIN:VEVENT
DTSTAMP;TZID=Asia/Hong_Kong:20260423T123358
DTSTART;TZID=Asia/Hong_Kong:20170816T153000
DTEND;TZID=Asia/Hong_Kong:20170816T183000
LOCATION:Room 2612B (Lift 31), 2/F Academic Building, HKUST
SUMMARY:PhD in Mathematics - Testing and Scoring High-dimensional Covariance Matrices under the Elliptical Distribution and Beyond
UID:25581
END:VEVENT
END:VCALENDAR