BEGIN:VCALENDAR
PRODID:-//HKUST Drupal Platform//EN
VERSION:2.0
BEGIN:VTIMEZONE
TZID:Asia/Hong_Kong
BEGIN:STANDARD
DTSTART:20071104T020000
TZOFFSETFROM:+0700
TZOFFSETTO:+0800
TZNAME:HKT
END:STANDARD
END:VTIMEZONE
BEGIN:VEVENT
DTSTAMP;TZID=Asia/Hong_Kong:20260423T123402
DTSTART;TZID=Asia/Hong_Kong:20170817T160000
DTEND;TZID=Asia/Hong_Kong:20170817T190000
LOCATION:Room 3401, Academic Building (Lift no. 2)
SUMMARY:MPhil in Humanities - Workers in Early Socialist Guangzhou:  “Liberation” as Everyday Experiences
UID:25559
END:VEVENT
END:VCALENDAR