BEGIN:VCALENDAR
PRODID:-//HKUST Drupal Platform//EN
VERSION:2.0
BEGIN:VTIMEZONE
TZID:Asia/Hong_Kong
BEGIN:STANDARD
DTSTART:20071104T020000
TZOFFSETFROM:+0700
TZOFFSETTO:+0800
TZNAME:HKT
END:STANDARD
END:VTIMEZONE
BEGIN:VEVENT
DTSTAMP;TZID=Asia/Hong_Kong:20260423T140352
DTSTART;TZID=Asia/Hong_Kong:20170818T100000
DTEND;TZID=Asia/Hong_Kong:20170818T130000
LOCATION:Room 4619 (Lifts 31-32), 4/F Academic Building, HKUST
SUMMARY:PhD in Electronic & Comp Engg - Channel Engineering of Wide Bandgap Semiconductor Based Power Devices
UID:25555
END:VEVENT
END:VCALENDAR