BEGIN:VCALENDAR
PRODID:-//HKUST Drupal Platform//EN
VERSION:2.0
BEGIN:VTIMEZONE
TZID:Asia/Hong_Kong
BEGIN:STANDARD
DTSTART:20071104T020000
TZOFFSETFROM:+0700
TZOFFSETTO:+0800
TZNAME:HKT
END:STANDARD
END:VTIMEZONE
BEGIN:VEVENT
DTSTAMP;TZID=Asia/Hong_Kong:20260425T185514
DTSTART;TZID=Asia/Hong_Kong:20170822T140000
DTEND;TZID=Asia/Hong_Kong:20170822T170000
LOCATION:Room 4504 (Lifts 25-26), 4/F Academic Building, HKUST
SUMMARY:MPhil in Chem & Biomolecular Engg - Development of Entirely Protein Based Calcium-responsive Hydrogels
UID:25508
END:VEVENT
END:VCALENDAR