BEGIN:VCALENDAR
PRODID:-//HKUST Drupal Platform//EN
VERSION:2.0
BEGIN:VTIMEZONE
TZID:Asia/Hong_Kong
BEGIN:STANDARD
DTSTART:20071104T020000
TZOFFSETFROM:+0700
TZOFFSETTO:+0800
TZNAME:HKT
END:STANDARD
END:VTIMEZONE
BEGIN:VEVENT
DTSTAMP;TZID=Asia/Hong_Kong:20260425T185512
DTSTART;TZID=Asia/Hong_Kong:20170824T110000
DTEND;TZID=Asia/Hong_Kong:20170824T140000
LOCATION:Room 1504 (Lifts 25-26), 4/F Academic Building, HKUST
SUMMARY:PhD in Life Science - The Role of OFD1 and BBS4 in the Migration and Invasion of Lung Cancer Cells and Synergistic Anticancer Effects of Proanthocyanidins from the Plant Urceola Huaitingii in Combination with Chemotherapeutics
UID:25484
END:VEVENT
END:VCALENDAR