BEGIN:VCALENDAR
PRODID:-//HKUST Drupal Platform//EN
VERSION:2.0
BEGIN:VTIMEZONE
TZID:Asia/Hong_Kong
BEGIN:STANDARD
DTSTART:20071104T020000
TZOFFSETFROM:+0700
TZOFFSETTO:+0800
TZNAME:HKT
END:STANDARD
END:VTIMEZONE
BEGIN:VEVENT
DTSTAMP;TZID=Asia/Hong_Kong:20260425T105103
DTSTART;TZID=Asia/Hong_Kong:20170824T143000
DTEND;TZID=Asia/Hong_Kong:20170824T173000
LOCATION:Room 4503 (Lifts 25-26), 4/F Academic Building, HKUST
SUMMARY:PhD in Chemistry - Synthesis of Maltepolide Cores via 1,3-Diene–Ene RCM and Study on SmI2-Mediated Reductive Coupling of Methacrylates with Aldehydes
UID:25480
END:VEVENT
END:VCALENDAR