BEGIN:VCALENDAR
PRODID:-//HKUST Drupal Platform//EN
VERSION:2.0
BEGIN:VTIMEZONE
TZID:Asia/Hong_Kong
BEGIN:STANDARD
DTSTART:20071104T020000
TZOFFSETFROM:+0700
TZOFFSETTO:+0800
TZNAME:HKT
END:STANDARD
END:VTIMEZONE
BEGIN:VEVENT
DTSTAMP;TZID=Asia/Hong_Kong:20260425T212614
DTSTART;TZID=Asia/Hong_Kong:20170828T100000
DTEND;TZID=Asia/Hong_Kong:20170828T130000
LOCATION:Room 4582 (Lifts 29-30), 4/F Academic Building, HKUST
SUMMARY:PhD in Chem & Biomolecular Engg - Magnetically Separable SBA15-based Metallic Catalysts for Selective Organic Transformation from Benzyl Alcohol to BenzaldehydeBenzaldehyde
UID:25446
END:VEVENT
END:VCALENDAR